BEGIN:VCALENDAR
VERSION:2.0
PRODID:-//The Aviation Museum of Kentucky-AMK - ECPv6.15.15//NONSGML v1.0//EN
CALSCALE:GREGORIAN
METHOD:PUBLISH
X-WR-CALNAME:The Aviation Museum of Kentucky-AMK
X-ORIGINAL-URL:https://aviationky.org
X-WR-CALDESC:Events for The Aviation Museum of Kentucky-AMK
REFRESH-INTERVAL;VALUE=DURATION:PT1H
X-Robots-Tag:noindex
X-PUBLISHED-TTL:PT1H
BEGIN:VTIMEZONE
TZID:UTC
BEGIN:STANDARD
TZOFFSETFROM:+0000
TZOFFSETTO:+0000
TZNAME:UTC
DTSTART:20240101T000000
END:STANDARD
END:VTIMEZONE
BEGIN:VEVENT
DTSTART;TZID=UTC:20250729T180000
DTEND;TZID=UTC:20250729T193000
DTSTAMP:20260420T063240
CREATED:20250709T202100Z
LAST-MODIFIED:20250709T202100Z
UID:10919-1753812000-1753817400@aviationky.org
SUMMARY:Cleared for Takeoff: Your Aviation Adventure Continues! with Rachel Groce
DESCRIPTION:Join us for a special evening as we welcome back campers and their families for an inspiring night of aviation\, exploration\, and opportunity. Hosted at the Aviation Museum of Kentucky\, this Parent Night is designed to guide young aspiring aviators and their families through the next steps in their journey\, from private pilot licenses to STEM pathways and scholarships. \nHear from camp instructors\, community aviation leaders\, and local programs like Women in Aviation and Civil Air Patrol. Reconnect with camp friends\, explore exciting aviation organizations\, and get your questions answered in an engaging\, welcoming environment. \nWhether your child dreams of flying\, engineering\, or exploring the skies through service\, this is your runway to success. \nPlease fill out this quick RSVP form to let us know if you’re attending:\nFORM HERE
URL:https://aviationky.org/event/cleared-for-takeoff-your-aviation-adventure-continues-with-rachel-groce/
CATEGORIES:Camp Registration,Camps,Education,Featured,Museum
ATTACH;FMTTYPE=application/pdf:https://aviationky.org/wp-content/uploads/2025/07/Cleared-For-Takeoff.pdf
END:VEVENT
END:VCALENDAR