BEGIN:VCALENDAR
VERSION:2.0
PRODID:-//The Aviation Museum of Kentucky-AMK - ECPv6.15.15//NONSGML v1.0//EN
CALSCALE:GREGORIAN
METHOD:PUBLISH
X-WR-CALNAME:The Aviation Museum of Kentucky-AMK
X-ORIGINAL-URL:https://aviationky.org
X-WR-CALDESC:Events for The Aviation Museum of Kentucky-AMK
REFRESH-INTERVAL;VALUE=DURATION:PT1H
X-Robots-Tag:noindex
X-PUBLISHED-TTL:PT1H
BEGIN:VTIMEZONE
TZID:UTC
BEGIN:STANDARD
TZOFFSETFROM:+0000
TZOFFSETTO:+0000
TZNAME:UTC
DTSTART:20250101T000000
END:STANDARD
END:VTIMEZONE
BEGIN:VEVENT
DTSTART;TZID=UTC:20260423T100000
DTEND;TZID=UTC:20260423T133000
DTSTAMP:20260421T143942
CREATED:20260420T151637Z
LAST-MODIFIED:20260420T151637Z
UID:12138-1776938400-1776951000@aviationky.org
SUMMARY:CLOSED for Private Event
DESCRIPTION:The museum will be closed for a private event from 10:00-1:30. We will reopen for public visitation 1:30-5:00.
URL:https://aviationky.org/event/closed-for-private-event/
CATEGORIES:Museum,Special Events
ATTACH;FMTTYPE=image/png:https://aviationky.org/wp-content/uploads/2025/12/Your-paragraph-text-33.png
END:VEVENT
END:VCALENDAR