BEGIN:VCALENDAR
VERSION:2.0
PRODID:-//The Aviation Museum of Kentucky-AMK - ECPv6.15.15//NONSGML v1.0//EN
CALSCALE:GREGORIAN
METHOD:PUBLISH
X-ORIGINAL-URL:https://aviationky.org
X-WR-CALDESC:Events for The Aviation Museum of Kentucky-AMK
REFRESH-INTERVAL;VALUE=DURATION:PT1H
X-Robots-Tag:noindex
X-PUBLISHED-TTL:PT1H
BEGIN:VTIMEZONE
TZID:UTC
BEGIN:STANDARD
TZOFFSETFROM:+0000
TZOFFSETTO:+0000
TZNAME:UTC
DTSTART:20240101T000000
END:STANDARD
END:VTIMEZONE
BEGIN:VEVENT
DTSTART;VALUE=DATE:20251111
DTEND;VALUE=DATE:20251112
DTSTAMP:20260420T063143
CREATED:20251105T213357Z
LAST-MODIFIED:20251105T213357Z
UID:11378-1762819200-1762905599@aviationky.org
SUMMARY:Veterans Day
DESCRIPTION:This Veterans Day\, we invite all veterans to visit the Aviation Museum with free admission on November 11. Join us as we celebrate the courage\, dedication\, and service of our nation’s heroes and explore the history of aviation that helped shape their missions. Free admission is available for veterans only on Veterans Day.
URL:https://aviationky.org/event/veterans-day/
CATEGORIES:Featured,Holiday,Museum,Special Events
ATTACH;FMTTYPE=image/png:https://aviationky.org/wp-content/uploads/2025/11/November-11-2025-3.png
END:VEVENT
END:VCALENDAR