BEGIN:VCALENDAR
VERSION:2.0
PRODID:-//The Aviation Museum of Kentucky-AMK - ECPv6.15.15//NONSGML v1.0//EN
CALSCALE:GREGORIAN
METHOD:PUBLISH
X-ORIGINAL-URL:https://aviationky.org
X-WR-CALDESC:Events for The Aviation Museum of Kentucky-AMK
REFRESH-INTERVAL;VALUE=DURATION:PT1H
X-Robots-Tag:noindex
X-PUBLISHED-TTL:PT1H
BEGIN:VTIMEZONE
TZID:UTC
BEGIN:STANDARD
TZOFFSETFROM:+0000
TZOFFSETTO:+0000
TZNAME:UTC
DTSTART:20240101T000000
END:STANDARD
END:VTIMEZONE
BEGIN:VEVENT
DTSTART;TZID=UTC:20251202T090000
DTEND;TZID=UTC:20251202T235900
DTSTAMP:20260420T044437
CREATED:20251124T173015Z
LAST-MODIFIED:20251124T173015Z
UID:11535-1764666000-1764719940@aviationky.org
SUMMARY:Blue Grass Gives Day!
DESCRIPTION:The Aviation Museum of Kentucky is excited to participate in Blue Grass Gives (formerly the Good Giving Challenge)\, a community-wide day of giving taking place on Tuesday\, December 2\, from 6:00 a.m. to midnight. \nA donation of $10 or more can go even further thanks to matches and prizes available throughout the day\, maximizing your impact. \nThis year\, our goal is to raise funds that will help us continue preserving and celebrating Kentucky’s rich aviation heritage—from historic aircraft restoration and STEM education to flight simulation programs that inspire the next generation of aviation enthusiasts. \nHead over to our page https://www.bggives.org/organizations/the-aviation-museum-of-kentucky and donate today! Early giving opens November 25th at 9:00 a.m.
URL:https://aviationky.org/event/blue-grass-gives-day/
CATEGORIES:donate,Education,Featured,Holiday,Museum,Special Events
END:VEVENT
END:VCALENDAR