BEGIN:VCALENDAR
VERSION:2.0
PRODID:-//The Aviation Museum of Kentucky-AMK - ECPv6.15.15//NONSGML v1.0//EN
CALSCALE:GREGORIAN
METHOD:PUBLISH
X-ORIGINAL-URL:https://aviationky.org
X-WR-CALDESC:Events for The Aviation Museum of Kentucky-AMK
REFRESH-INTERVAL;VALUE=DURATION:PT1H
X-Robots-Tag:noindex
X-PUBLISHED-TTL:PT1H
BEGIN:VTIMEZONE
TZID:UTC
BEGIN:STANDARD
TZOFFSETFROM:+0000
TZOFFSETTO:+0000
TZNAME:UTC
DTSTART:20250101T000000
END:STANDARD
END:VTIMEZONE
BEGIN:VEVENT
DTSTART;TZID=UTC:20260301T130000
DTEND;TZID=UTC:20260301T163000
DTSTAMP:20260420T063237
CREATED:20251021T165058Z
LAST-MODIFIED:20260224T153537Z
UID:11339-1772370000-1772382600@aviationky.org
SUMMARY:Simulator Sunday & Drone Flying
DESCRIPTION:Experience Flight at AMK Simulator Sunday & Drone Flying! \nJoin us at the Aviation Museum of Kentucky from 1:00 – 4:30 PM for our popular AMK Simulator Sunday and Drone Flying! Bring the whole family to the “Best Museum in Lexington” and take to the skies in our flight simulators. \nTest your skills in our Drone Cage\, where our experienced Drone Team will guide you through fun and challenging obstacle courses. \nWhile you’re here\, don’t miss the chance to explore two full hangars of incredible aircraft — from jet fighters and biplanes to helicopters and historic planes that shaped aviation history. \nFly. Explore. Discover. \nWe’ll see you on the flight line!
URL:https://aviationky.org/event/simulator-sunday-drone-flying-4/
CATEGORIES:Drone Flying,Education,Featured,Museum,Simulator Sunday
ATTACH;FMTTYPE=image/png:https://aviationky.org/wp-content/uploads/2025/10/WEBSITE-6.png
END:VEVENT
BEGIN:VEVENT
DTSTART;TZID=UTC:20260307T100000
DTEND;TZID=UTC:20260307T140000
DTSTAMP:20260420T063237
CREATED:20251021T181526Z
LAST-MODIFIED:20260224T154356Z
UID:11341-1772877600-1772892000@aviationky.org
SUMMARY:Learning Lab: Build a BD-5
DESCRIPTION:Get Ready for a One-of-a-Kind Aviation Experience! \nJoin us on Saturdays from 10 am to 2 pm in the Learning Lab for an exciting\, hands-on experience helping to build the legendary BD-5 aircraft. Whether you’re an aviation enthusiast or just curious about how planes are built\, this workshop is the perfect opportunity to dive in. \nNo Experience Necessary – Just Bring Your Curiosity! \nThis event is open to everyone\, regardless of experience. Our team will guide you every step of the way. All you need is enthusiasm\, curiosity\, and a willingness to learn. Tools and materials will be provided on-site.
URL:https://aviationky.org/event/learning-lab-build-a-bd-5/
CATEGORIES:Education,Featured,Learning Lab,Museum
ATTACH;FMTTYPE=image/png:https://aviationky.org/wp-content/uploads/2025/10/WEBSITE-7.png
END:VEVENT
BEGIN:VEVENT
DTSTART;TZID=UTC:20260314T100000
DTEND;TZID=UTC:20260314T140000
DTSTAMP:20260420T063237
CREATED:20250903T234740Z
LAST-MODIFIED:20260224T160101Z
UID:11179-1773482400-1773496800@aviationky.org
SUMMARY:Learning Lab: Build a BD-5
DESCRIPTION:Get Ready for a One-of-a-Kind Aviation Experience! \nJoin us on Saturdays from 10 am to 2 pm in the Learning Lab for an exciting\, hands-on experience helping to build the legendary BD-5 aircraft. Whether you’re an aviation enthusiast or just curious about how planes are built\, this workshop is the perfect opportunity to dive in. \nNo Experience Necessary – Just Bring Your Curiosity! \nThis event is open to everyone\, regardless of experience. Our team will guide you every step of the way. All you need is enthusiasm\, curiosity\, and a willingness to learn. Tools and materials will be provided on-site.
URL:https://aviationky.org/event/bd-5-learning-lab-6/
CATEGORIES:Education,Featured,Learning Lab
ATTACH;FMTTYPE=image/png:https://aviationky.org/wp-content/uploads/2025/10/WEBSITE-7.png
END:VEVENT
BEGIN:VEVENT
DTSTART;TZID=UTC:20260321T100000
DTEND;TZID=UTC:20260321T140000
DTSTAMP:20260420T063237
CREATED:20250903T232209Z
LAST-MODIFIED:20260224T155953Z
UID:11173-1774087200-1774101600@aviationky.org
SUMMARY:Learning Lab: Build a BD-5
DESCRIPTION:Get Ready for a One-of-a-Kind Aviation Experience! \nJoin us on Saturdays from 10 am to 2 pm in the Learning Lab for an exciting\, hands-on experience helping to build the legendary BD-5 aircraft. Whether you’re an aviation enthusiast or just curious about how planes are built\, this workshop is the perfect opportunity to dive in. \nThis event is open to everyone\, regardless of experience. Our team will guide you every step of the way. All you need is enthusiasm\, curiosity\, and a willingness to learn. Tools and materials will be provided on-site.
URL:https://aviationky.org/event/learning-lab-bd-5/
CATEGORIES:Education,Featured,Museum
ATTACH;FMTTYPE=image/png:https://aviationky.org/wp-content/uploads/2025/10/WEBSITE-7.png
END:VEVENT
BEGIN:VEVENT
DTSTART;TZID=UTC:20260328T100000
DTEND;TZID=UTC:20260328T140000
DTSTAMP:20260420T063237
CREATED:20250930T212955Z
LAST-MODIFIED:20260224T160021Z
UID:11229-1774692000-1774706400@aviationky.org
SUMMARY:Learning Lab: Build a BD-5
DESCRIPTION:Get Ready for a One-of-a-Kind Aviation Experience! \nJoin us on Saturdays from 10 am to 2 pm in the Learning Lab for an exciting\, hands-on experience helping to build the legendary BD-5 aircraft. Whether you’re an aviation enthusiast or just curious about how planes are built\, this workshop is the perfect opportunity to dive in. \nThis event is open to everyone\, regardless of experience. Our team will guide you every step of the way. All you need is enthusiasm\, curiosity\, and a willingness to learn. Tools and materials will be provided on-site. \n 
URL:https://aviationky.org/event/build-the-bd-5-in-the-learning-lab/
CATEGORIES:Education,Featured,Museum
ATTACH;FMTTYPE=image/png:https://aviationky.org/wp-content/uploads/2025/10/WEBSITE-7.png
END:VEVENT
BEGIN:VEVENT
DTSTART;VALUE=DATE:20260418
DTEND;VALUE=DATE:20260419
DTSTAMP:20260420T063237
CREATED:20260417T212305Z
LAST-MODIFIED:20260417T212305Z
UID:12136-1776470400-1776556799@aviationky.org
SUMMARY:FREE Admission for Kentucky Residents TODAY ONLY
DESCRIPTION:In honor of our 31st anniversary\, we are offering FREE General Admission to all Kentucky residents today only. Come out to the museum!
URL:https://aviationky.org/event/free-admission-for-kentucky-residents-today-only/
END:VEVENT
BEGIN:VEVENT
DTSTART;TZID=UTC:20260419T130000
DTEND;TZID=UTC:20260419T163000
DTSTAMP:20260420T063237
CREATED:20250930T214930Z
LAST-MODIFIED:20260409T142047Z
UID:11236-1776603600-1776616200@aviationky.org
SUMMARY:Simulator Sunday & Drone Flying
DESCRIPTION:Experience Flight at AMK Simulator Sunday & Drone Flying! \nJoin us at the Aviation Museum of Kentucky from 1:00 – 4:30 PM for our popular AMK Simulator Sunday and Drone Flying! Bring the whole family to the “Best Museum in Lexington” and take to the skies in our flight simulators. \nTest your skills in our Drone Cage\, where our experienced Drone Team will guide you through fun and challenging obstacle courses. \nWhile you’re here\, don’t miss the chance to explore two full hangars of incredible aircraft — from jet fighters and biplanes to helicopters and historic planes that shaped aviation history. \nFly. Explore. Discover. \nWe’ll see you on the flight line!
URL:https://aviationky.org/event/experience-flight-at-amk-simulator-sunday-drone-flying/
CATEGORIES:Drone Flying,Education,Featured,Museum,Simulator Sunday
ATTACH;FMTTYPE=image/png:https://aviationky.org/wp-content/uploads/2025/10/WEBSITE-6.png
END:VEVENT
BEGIN:VEVENT
DTSTART;TZID=UTC:20260729T090000
DTEND;TZID=UTC:20260729T170000
DTSTAMP:20260420T063237
CREATED:20260413T220035Z
LAST-MODIFIED:20260413T220455Z
UID:12129-1785315600-1785344400@aviationky.org
SUMMARY:AirPower History Tour
DESCRIPTION:TICKET INFORMATION\n\n\n\n\n\n\n\n\n\n\n\n\nAircraft ride flights are subject to weather and maintenance conditions which can change. \n\n\nSeats sell out fast. Tickets should be purchased online in advance using the buttons below to reserve your seat.​ You can check the time/ticket availability of any aircraft by clicking the “Book A Ride” buttons below. \n\nEach aircraft has rider requirements. Check the “Ride Info” buttons below for specific aircraft rider requirements and other important information.\nGeneral Admission tickets are valid for one day\, on the day purchased (online or in-person).\nGeneral Admission tickets are not refundable. All general admission ticket sales are final.\n\n\n\n\n\n\n\n\n\n\nFor more information\, visit: https://www.airpowersquadron.org/lexington\n \n\n\n\n\n\n\n\n\n\n\nEVENT SCHEDULE\n\n\n\n\n\n\n\n\n\n\n\n\n\n\n\nWEDNESDAY \n\n\n\n\n\n\n\n\n\n\n\nB-29 Cockpit tours available all day \n\n\nB-24 Cockpit tours available all day \n\n\nPT-13\, T-6\, & RC-45J aircraft available for rides all day (click “book a ride” below for availability) \n\n\n\n\n\n\n\n\n\n\n\n\n\n\n\n\n\n\n\n\nTHURSDAY \n\n\n\n\n\n\n\n\n\n\n\nB-29 Cockpit tours available all day \n\n\nB-24 Cockpit tours available all day \n\n\nPT-13\, T-6\, & RC-45J aircraft available for rides all day (click “book a ride” below for availability) \n\n\n\n\n\n\n\n\n\n\n\n\n\n\n\n\n\n\n\n\nFRIDAY \n\n\n\n\n\n\n\n\n\n\n\nB-29 Cockpit tours available all day \n\n\nB-24 Cockpit tours available all day \n\n\nPT-13\, T-6\, & RC-45J aircraft available for rides all day (click “book a ride” below for availability) \n\n\n\n\n\n\n\n\n\n\n\n\n\n\n\n\n\nSATURDAY \n\n\n\n\n\n\n\n\n\n\n\nB-29 ride flights at 9:00AM & 10:30AM \n\n\nB-24 ride flights at 9:30AM & 11:00AM \n\n\nB-29 & B-24 cockpit tours will open after morning flights \n\n\nPT-13\, T-6 & RC-45J rides available for rides all day (click “book a ride” below for availability) \n\n\n\n\n\n\n\n\n\n\n\n\n\n\n\n\n\nSUNDAY \n\n\n\n\n\n\n\n\n\n\n\nB-29 ride flights at 9:00AM & 10:30AM \n\n\nB-24 ride flights at 9:30AM & 11:00AM \n\n\nB-29 & B-24 cockpit tours will open after morning flights \n\n\nPT-13\, T-6 & RC-45J rides available for rides all day (click “book a ride” below for availability) \n\n\n  \n\nhttps://www.airpowersquadron.org/lexington
URL:https://aviationky.org/event/airpower-history-tour/
LOCATION:Lexington\, 4029 Airport Road\, Lexington\, KY\, United States
CATEGORIES:Featured,Museum,Special Events
ATTACH;FMTTYPE=image/webp:https://aviationky.org/wp-content/uploads/2026/02/girl.webp
END:VEVENT
END:VCALENDAR