BEGIN:VCALENDAR
VERSION:2.0
PRODID:-//The Aviation Museum of Kentucky-AMK - ECPv6.15.15//NONSGML v1.0//EN
CALSCALE:GREGORIAN
METHOD:PUBLISH
X-WR-CALNAME:The Aviation Museum of Kentucky-AMK
X-ORIGINAL-URL:https://aviationky.org
X-WR-CALDESC:Events for The Aviation Museum of Kentucky-AMK
REFRESH-INTERVAL;VALUE=DURATION:PT1H
X-Robots-Tag:noindex
X-PUBLISHED-TTL:PT1H
BEGIN:VTIMEZONE
TZID:UTC
BEGIN:STANDARD
TZOFFSETFROM:+0000
TZOFFSETTO:+0000
TZNAME:UTC
DTSTART:20240101T000000
END:STANDARD
END:VTIMEZONE
BEGIN:VEVENT
DTSTART;VALUE=DATE:20250422
DTEND;VALUE=DATE:20250424
DTSTAMP:20260423T025915
CREATED:20250423T160517Z
LAST-MODIFIED:20250423T160517Z
UID:10598-1745280000-1745452799@aviationky.org
SUMMARY:MUSEUM CLOSED FOR SPRING CLEANING
DESCRIPTION:We will be closed for Spring Cleaning!
URL:https://aviationky.org/event/museum-closed-for-spring-cleaning/
ATTACH;FMTTYPE=image/png:https://aviationky.org/wp-content/uploads/2025/04/BD-5-learning-lab-11.png
END:VEVENT
BEGIN:VEVENT
DTSTART;TZID=UTC:20250316T130000
DTEND;TZID=UTC:20250316T163000
DTSTAMP:20260423T025915
CREATED:20250312T185349Z
LAST-MODIFIED:20250314T191407Z
UID:9691-1742130000-1742142600@aviationky.org
SUMMARY:Simulator Sunday
DESCRIPTION:Fly into Spring! Join us for Simulator Sunday this month. Bring family and friends out to the museum to experience flight on one of our flight simulators\, including a helicopter flight! While at the museum\, you’ll want to explore our two hangars of amazing aircraft from jet fighters\, helicopters\, biplanes and more!
URL:https://aviationky.org/event/simulator-sunday/
CATEGORIES:Featured,Museum
ATTACH;FMTTYPE=image/webp:https://aviationky.org/wp-content/uploads/2025/03/simulator.webp
END:VEVENT
END:VCALENDAR